BEGIN:VCALENDAR
VERSION:2.0
PRODID:-//San Joaquin Regional Transit District - ECPv6.15.20//NONSGML v1.0//EN
CALSCALE:GREGORIAN
METHOD:PUBLISH
X-ORIGINAL-URL:https://sanjoaquinrtd.com
X-WR-CALDESC:Events for San Joaquin Regional Transit District
REFRESH-INTERVAL;VALUE=DURATION:PT1H
X-Robots-Tag:noindex
X-PUBLISHED-TTL:PT1H
BEGIN:VTIMEZONE
TZID:America/Los_Angeles
BEGIN:DAYLIGHT
TZOFFSETFROM:-0800
TZOFFSETTO:-0700
TZNAME:PDT
DTSTART:20240310T100000
END:DAYLIGHT
BEGIN:STANDARD
TZOFFSETFROM:-0700
TZOFFSETTO:-0800
TZNAME:PST
DTSTART:20241103T090000
END:STANDARD
BEGIN:DAYLIGHT
TZOFFSETFROM:-0800
TZOFFSETTO:-0700
TZNAME:PDT
DTSTART:20250309T100000
END:DAYLIGHT
BEGIN:STANDARD
TZOFFSETFROM:-0700
TZOFFSETTO:-0800
TZNAME:PST
DTSTART:20251102T090000
END:STANDARD
BEGIN:DAYLIGHT
TZOFFSETFROM:-0800
TZOFFSETTO:-0700
TZNAME:PDT
DTSTART:20260308T100000
END:DAYLIGHT
BEGIN:STANDARD
TZOFFSETFROM:-0700
TZOFFSETTO:-0800
TZNAME:PST
DTSTART:20261101T090000
END:STANDARD
END:VTIMEZONE
BEGIN:VEVENT
DTSTART;TZID=America/Los_Angeles:20250809T100000
DTEND;TZID=America/Los_Angeles:20250809T140000
DTSTAMP:20260423T044854
CREATED:20250722T225150Z
LAST-MODIFIED:20250722T225150Z
UID:18083-1754733600-1754748000@sanjoaquinrtd.com
SUMMARY:Community Medical Center Health & Resource Fair
DESCRIPTION:Join RTD at the Community Medical Centers Health & Resource Fair\, a day dedicated to wellness\, education\, and community support. \nThis event will feature health screenings\, wellness information\, and a wide range of community resources to help you and your family stay informed and healthy. Enjoy giveaways\, prizes\, and friendly faces as you explore everything the fair has to offer. \nStop by the RTD booth to learn how public transit supports your access to essential services\, and pick up some fun freebies while you’re there!
URL:https://sanjoaquinrtd.com/event/community-medical-center-health-resource-fair/
LOCATION:Banner Island Ballpark\, 404 W Fremont St.\, Stockton\, CA\, 95203\, United States
CATEGORIES:Exhibiting
ATTACH;FMTTYPE=image/jpeg:https://sanjoaquinrtd.com/wp-content/uploads/2025/07/cmc.jpg
END:VEVENT
END:VCALENDAR