BEGIN:VCALENDAR
VERSION:2.0
PRODID:-//San Joaquin Regional Transit District - ECPv6.15.20//NONSGML v1.0//EN
CALSCALE:GREGORIAN
METHOD:PUBLISH
X-WR-CALNAME:San Joaquin Regional Transit District
X-ORIGINAL-URL:https://sanjoaquinrtd.com
X-WR-CALDESC:Events for San Joaquin Regional Transit District
REFRESH-INTERVAL;VALUE=DURATION:PT1H
X-Robots-Tag:noindex
X-PUBLISHED-TTL:PT1H
BEGIN:VTIMEZONE
TZID:America/Los_Angeles
BEGIN:DAYLIGHT
TZOFFSETFROM:-0800
TZOFFSETTO:-0700
TZNAME:PDT
DTSTART:20240310T100000
END:DAYLIGHT
BEGIN:STANDARD
TZOFFSETFROM:-0700
TZOFFSETTO:-0800
TZNAME:PST
DTSTART:20241103T090000
END:STANDARD
BEGIN:DAYLIGHT
TZOFFSETFROM:-0800
TZOFFSETTO:-0700
TZNAME:PDT
DTSTART:20250309T100000
END:DAYLIGHT
BEGIN:STANDARD
TZOFFSETFROM:-0700
TZOFFSETTO:-0800
TZNAME:PST
DTSTART:20251102T090000
END:STANDARD
BEGIN:DAYLIGHT
TZOFFSETFROM:-0800
TZOFFSETTO:-0700
TZNAME:PDT
DTSTART:20260308T100000
END:DAYLIGHT
BEGIN:STANDARD
TZOFFSETFROM:-0700
TZOFFSETTO:-0800
TZNAME:PST
DTSTART:20261101T090000
END:STANDARD
END:VTIMEZONE
BEGIN:VEVENT
DTSTART;TZID=America/Los_Angeles:20250805T170000
DTEND;TZID=America/Los_Angeles:20250805T200000
DTSTAMP:20260421T111004
CREATED:20250722T222333Z
LAST-MODIFIED:20250722T222333Z
UID:18072-1754413200-1754424000@sanjoaquinrtd.com
SUMMARY:Yosemite Street Village National Night Out
DESCRIPTION:Join San Joaquin RTD for an evening of community\, connection\, and fun at National Night Out! Stop by our booth to learn more about RTD services\, enjoy giveaways\, and meet our team. Admission is free\, see you there!
URL:https://sanjoaquinrtd.com/event/yosemite-street-village-national-night-out/
LOCATION:Yosemite Street Village\, 929 N Yosemite St\, Stockton\, CA\, 95203\, United States
CATEGORIES:Exhibiting
ATTACH;FMTTYPE=image/jpeg:https://sanjoaquinrtd.com/wp-content/uploads/2025/07/yvNNO.jpg
END:VEVENT
BEGIN:VEVENT
DTSTART;TZID=America/Los_Angeles:20250805T170000
DTEND;TZID=America/Los_Angeles:20250805T200000
DTSTAMP:20260421T111004
CREATED:20250722T223333Z
LAST-MODIFIED:20250722T223333Z
UID:18076-1754413200-1754424000@sanjoaquinrtd.com
SUMMARY:Lincoln Center National Night Out
DESCRIPTION:Join RTD at Lincoln Center South for National Night Out. A night filled with fun\, family\, and community pride! \nWe’ll be there alongside local organizations\, sharing resources\, giving out information\, and celebrating the connections that make our neighborhoods strong. Stop by our booth to say hello\, pick up some RTD goodies\, and discover how we help keep Stockton moving. \nThis free event is open to all\, don’t miss it!
URL:https://sanjoaquinrtd.com/event/lincoln-center-national-night-out/
LOCATION:Lincoln Center South\, 864 W Benjamin Holt Dr\, Stockton\, CA\, United States
CATEGORIES:Exhibiting
ATTACH;FMTTYPE=image/jpeg:https://sanjoaquinrtd.com/wp-content/uploads/2025/07/LC_NationalNightOut_2025.jpg
END:VEVENT
BEGIN:VEVENT
DTSTART;TZID=America/Los_Angeles:20250805T181500
DTEND;TZID=America/Los_Angeles:20250805T203000
DTSTAMP:20260421T111004
CREATED:20250722T224504Z
LAST-MODIFIED:20250722T224504Z
UID:18080-1754417700-1754425800@sanjoaquinrtd.com
SUMMARY:Banner Island Park National Night Out
DESCRIPTION:Celebrate community spirit under the stadium lights at National Night Out at Banner Island Ballpark! RTD will be on-site along with other local organizations. There will be community resources\, raffle prizes\, and family-friendly fun. \nEnjoy a free baseball game and connect with neighbors\, local leaders\, and public safety officials who are working to build a stronger Stockton. \nSwing by our booth to learn about RTD services\, grab some giveaways\, and be part of an unforgettable night of hometown pride.
URL:https://sanjoaquinrtd.com/event/banner-island-park-national-night-out/
LOCATION:Banner Island Ballpark\, 404 W Fremont St.\, Stockton\, CA\, 95203\, United States
CATEGORIES:Exhibiting
ATTACH;FMTTYPE=image/jpeg:https://sanjoaquinrtd.com/wp-content/uploads/2025/07/banner-island-NNO.jpg
END:VEVENT
END:VCALENDAR