BEGIN:VCALENDAR
VERSION:2.0
PRODID:-//San Joaquin Regional Transit District - ECPv6.15.20//NONSGML v1.0//EN
CALSCALE:GREGORIAN
METHOD:PUBLISH
X-ORIGINAL-URL:https://sanjoaquinrtd.com
X-WR-CALDESC:Events for San Joaquin Regional Transit District
REFRESH-INTERVAL;VALUE=DURATION:PT1H
X-Robots-Tag:noindex
X-PUBLISHED-TTL:PT1H
BEGIN:VTIMEZONE
TZID:America/Los_Angeles
BEGIN:DAYLIGHT
TZOFFSETFROM:-0800
TZOFFSETTO:-0700
TZNAME:PDT
DTSTART:20240310T100000
END:DAYLIGHT
BEGIN:STANDARD
TZOFFSETFROM:-0700
TZOFFSETTO:-0800
TZNAME:PST
DTSTART:20241103T090000
END:STANDARD
BEGIN:DAYLIGHT
TZOFFSETFROM:-0800
TZOFFSETTO:-0700
TZNAME:PDT
DTSTART:20250309T100000
END:DAYLIGHT
BEGIN:STANDARD
TZOFFSETFROM:-0700
TZOFFSETTO:-0800
TZNAME:PST
DTSTART:20251102T090000
END:STANDARD
BEGIN:DAYLIGHT
TZOFFSETFROM:-0800
TZOFFSETTO:-0700
TZNAME:PDT
DTSTART:20260308T100000
END:DAYLIGHT
BEGIN:STANDARD
TZOFFSETFROM:-0700
TZOFFSETTO:-0800
TZNAME:PST
DTSTART:20261101T090000
END:STANDARD
END:VTIMEZONE
BEGIN:VEVENT
DTSTART;TZID=America/Los_Angeles:20250718T110000
DTEND;TZID=America/Los_Angeles:20250718T150000
DTSTAMP:20260421T081635
CREATED:20250506T203909Z
LAST-MODIFIED:20250506T203909Z
UID:17710-1752836400-1752850800@sanjoaquinrtd.com
SUMMARY:RTD Metro Market
DESCRIPTION:Join us for the July Metro Market at the Downtown Transit Center! This free event will feature local vendors\, community resources\, and a variety of food vendors along Lane A. Mark your calendar and bring your friends and family for a fun-filled day in the heart of Downtown Stockton. We look forward to seeing you at the RTD Metro Market!
URL:https://sanjoaquinrtd.com/event/rtd-metro-market-2/
LOCATION:Downtown Transit Center\, 421 E. Weber Ave\, Stockton\, CA\, United States
CATEGORIES:Event
ATTACH;FMTTYPE=image/png:https://sanjoaquinrtd.com/wp-content/uploads/2025/03/banner_Banner.png
END:VEVENT
END:VCALENDAR