BEGIN:VCALENDAR
VERSION:2.0
PRODID:-//San Joaquin Regional Transit District - ECPv6.15.20//NONSGML v1.0//EN
CALSCALE:GREGORIAN
METHOD:PUBLISH
X-ORIGINAL-URL:https://sanjoaquinrtd.com
X-WR-CALDESC:Events for San Joaquin Regional Transit District
REFRESH-INTERVAL;VALUE=DURATION:PT1H
X-Robots-Tag:noindex
X-PUBLISHED-TTL:PT1H
BEGIN:VTIMEZONE
TZID:America/Los_Angeles
BEGIN:DAYLIGHT
TZOFFSETFROM:-0800
TZOFFSETTO:-0700
TZNAME:PDT
DTSTART:20240310T100000
END:DAYLIGHT
BEGIN:STANDARD
TZOFFSETFROM:-0700
TZOFFSETTO:-0800
TZNAME:PST
DTSTART:20241103T090000
END:STANDARD
BEGIN:DAYLIGHT
TZOFFSETFROM:-0800
TZOFFSETTO:-0700
TZNAME:PDT
DTSTART:20250309T100000
END:DAYLIGHT
BEGIN:STANDARD
TZOFFSETFROM:-0700
TZOFFSETTO:-0800
TZNAME:PST
DTSTART:20251102T090000
END:STANDARD
BEGIN:DAYLIGHT
TZOFFSETFROM:-0800
TZOFFSETTO:-0700
TZNAME:PDT
DTSTART:20260308T100000
END:DAYLIGHT
BEGIN:STANDARD
TZOFFSETFROM:-0700
TZOFFSETTO:-0800
TZNAME:PST
DTSTART:20261101T090000
END:STANDARD
END:VTIMEZONE
BEGIN:VEVENT
DTSTART;TZID=America/Los_Angeles:20250716T150000
DTEND;TZID=America/Los_Angeles:20250716T160000
DTSTAMP:20260421T053955
CREATED:20240718T204830Z
LAST-MODIFIED:20250711T224223Z
UID:15811-1752678000-1752681600@sanjoaquinrtd.com
SUMMARY:Access Advisory Committee Meeting
DESCRIPTION:The Mobility Department invites you to join the Access Advisory Committee Meeting via Zoom. This public\, bi-monthly meeting\, held on the third Wednesday\, is dedicated to promoting inclusion and enhancing accessibility for people with disabilities. The committee evaluates accessibility\, offers recommendations\, develops policies\, and provides guidance and technical assistance. \nJoin Zoom Meeting\nhttps://us06web.zoom.us/j/85253100777?pwd=KZw9QaLpbexvaO3QYTQqxqXVBbyE6M.1 \nMeeting ID: 852 5310 0777\nPasscode: 472758
URL:https://sanjoaquinrtd.com/event/access-advisory-committee-meeting-7/
LOCATION:Zoom
CATEGORIES:Meeting
ATTACH;FMTTYPE=image/jpeg:https://sanjoaquinrtd.com/wp-content/uploads/2024/07/aac.jpg
END:VEVENT
END:VCALENDAR