BEGIN:VCALENDAR
VERSION:2.0
PRODID:-//San Joaquin Regional Transit District - ECPv6.15.20//NONSGML v1.0//EN
CALSCALE:GREGORIAN
METHOD:PUBLISH
X-WR-CALNAME:San Joaquin Regional Transit District
X-ORIGINAL-URL:https://sanjoaquinrtd.com
X-WR-CALDESC:Events for San Joaquin Regional Transit District
REFRESH-INTERVAL;VALUE=DURATION:PT1H
X-Robots-Tag:noindex
X-PUBLISHED-TTL:PT1H
BEGIN:VTIMEZONE
TZID:America/Los_Angeles
BEGIN:DAYLIGHT
TZOFFSETFROM:-0800
TZOFFSETTO:-0700
TZNAME:PDT
DTSTART:20240310T100000
END:DAYLIGHT
BEGIN:STANDARD
TZOFFSETFROM:-0700
TZOFFSETTO:-0800
TZNAME:PST
DTSTART:20241103T090000
END:STANDARD
BEGIN:DAYLIGHT
TZOFFSETFROM:-0800
TZOFFSETTO:-0700
TZNAME:PDT
DTSTART:20250309T100000
END:DAYLIGHT
BEGIN:STANDARD
TZOFFSETFROM:-0700
TZOFFSETTO:-0800
TZNAME:PST
DTSTART:20251102T090000
END:STANDARD
BEGIN:DAYLIGHT
TZOFFSETFROM:-0800
TZOFFSETTO:-0700
TZNAME:PDT
DTSTART:20260308T100000
END:DAYLIGHT
BEGIN:STANDARD
TZOFFSETFROM:-0700
TZOFFSETTO:-0800
TZNAME:PST
DTSTART:20261101T090000
END:STANDARD
END:VTIMEZONE
BEGIN:VEVENT
DTSTART;TZID=America/Los_Angeles:20250509T170000
DTEND;TZID=America/Los_Angeles:20250509T200000
DTSTAMP:20260421T101402
CREATED:20250506T220658Z
LAST-MODIFIED:20250506T220658Z
UID:17712-1746810000-1746820800@sanjoaquinrtd.com
SUMMARY:May 2025 ArtSplash
DESCRIPTION:Join us this Friday for the May 2025 ArtSplash! This month\, enjoy the creative work of Zoe Rose Walter\, a gifted artist and one-woman band. Zoe will be showcasing her handmade jewelry\, original art\, and enchanting Faerie Graveyards\, each piece crafted to spark imagination and wonder. We hope to see you there!
URL:https://sanjoaquinrtd.com/event/may-2025-artsplash/
LOCATION:Downtown Transit Center\, 421 E. Weber Ave\, Stockton\, CA\, United States
CATEGORIES:Event
ATTACH;FMTTYPE=image/png:https://sanjoaquinrtd.com/wp-content/uploads/2024/06/art_splash.png
END:VEVENT
END:VCALENDAR