BEGIN:VCALENDAR
VERSION:2.0
PRODID:-//San Joaquin Regional Transit District - ECPv6.15.20//NONSGML v1.0//EN
CALSCALE:GREGORIAN
METHOD:PUBLISH
X-ORIGINAL-URL:https://sanjoaquinrtd.com
X-WR-CALDESC:Events for San Joaquin Regional Transit District
REFRESH-INTERVAL;VALUE=DURATION:PT1H
X-Robots-Tag:noindex
X-PUBLISHED-TTL:PT1H
BEGIN:VTIMEZONE
TZID:America/Los_Angeles
BEGIN:DAYLIGHT
TZOFFSETFROM:-0800
TZOFFSETTO:-0700
TZNAME:PDT
DTSTART:20240310T100000
END:DAYLIGHT
BEGIN:STANDARD
TZOFFSETFROM:-0700
TZOFFSETTO:-0800
TZNAME:PST
DTSTART:20241103T090000
END:STANDARD
BEGIN:DAYLIGHT
TZOFFSETFROM:-0800
TZOFFSETTO:-0700
TZNAME:PDT
DTSTART:20250309T100000
END:DAYLIGHT
BEGIN:STANDARD
TZOFFSETFROM:-0700
TZOFFSETTO:-0800
TZNAME:PST
DTSTART:20251102T090000
END:STANDARD
BEGIN:DAYLIGHT
TZOFFSETFROM:-0800
TZOFFSETTO:-0700
TZNAME:PDT
DTSTART:20260308T100000
END:DAYLIGHT
BEGIN:STANDARD
TZOFFSETFROM:-0700
TZOFFSETTO:-0800
TZNAME:PST
DTSTART:20261101T090000
END:STANDARD
END:VTIMEZONE
BEGIN:VEVENT
DTSTART;TZID=America/Los_Angeles:20250430T153000
DTEND;TZID=America/Los_Angeles:20250430T173000
DTSTAMP:20260422T023125
CREATED:20250402T203101Z
LAST-MODIFIED:20250402T203101Z
UID:17440-1746027000-1746034200@sanjoaquinrtd.com
SUMMARY:Team Charter Care Fair
DESCRIPTION:Join us at Team Charter’s 2nd Annual Care Fair\, a community event focused on promoting wellness across all aspects of life—emotional\, mental\, physical\, financial\, social\, and occupational. We’re excited to participate as an exhibitor\, sharing valuable resources and information to support local families. \nThis free\, family-friendly event will feature local organizations\, music\, snacks\, and more. Stop by our booth to connect\, learn about our services\, and discover how we’re helping make a difference in our community. \nWe look forward to seeing you there!
URL:https://sanjoaquinrtd.com/event/team-charter-care-fair-2/
LOCATION:Team Charter\, 625 E. Market St.\, Stockton\, CA\, United States
CATEGORIES:Exhibiting
ATTACH;FMTTYPE=image/jpeg:https://sanjoaquinrtd.com/wp-content/uploads/2025/04/care_fair.jpg
END:VEVENT
BEGIN:VEVENT
DTSTART;TZID=America/Los_Angeles:20250430T180000
DTEND;TZID=America/Los_Angeles:20250430T190000
DTSTAMP:20260422T023125
CREATED:20250417T155025Z
LAST-MODIFIED:20250417T155025Z
UID:17499-1746036000-1746039600@sanjoaquinrtd.com
SUMMARY:SRTP Recap Zoom Meeting
DESCRIPTION:Join us on Tuesday\, April 30\, from 6:00 p.m. to 7:00 p.m. for a virtual community meeting where we’ll share the results from our recent Short Range Transit Plan (SRTP) workshops. Hear what we learned from your feedback and explore key takeaways.\n\n\n Date: Tuesday\, April 30\n Time: 6:00 p.m. – 7:00 p.m.\n Location: https://us06web.zoom.us/j/84072556443?pwd=NkVTiTTajTeEAjNrBUWsw8WVrgYHbj.1
URL:https://sanjoaquinrtd.com/event/srtp-recap-zoom-meeting/
LOCATION:Zoom
CATEGORIES:Meeting
ATTACH;FMTTYPE=image/jpeg:https://sanjoaquinrtd.com/wp-content/uploads/2025/04/srtp_recap_event.jpg
END:VEVENT
END:VCALENDAR